Package: biodb Version: 1.15.0 Command: /home/biocbuild/bbs-3.21-bioc/R/bin/R CMD check --install=check:biodb.install-out.txt --library=/home/biocbuild/bbs-3.21-bioc/R/site-library --timings biodb_1.15.0.tar.gz StartedAt: 2025-02-03 20:33:54 -0500 (Mon, 03 Feb 2025) EndedAt: 2025-02-03 20:37:44 -0500 (Mon, 03 Feb 2025) EllapsedTime: 229.4 seconds RetCode: 0 Status: OK CheckDir: biodb.Rcheck Warnings: 0