Package: biodb Version: 1.15.0 Command: /Library/Frameworks/R.framework/Resources/bin/R CMD INSTALL biodb StartedAt: 2025-02-03 15:53:48 -0500 (Mon, 03 Feb 2025) EndedAt: 2025-02-03 15:54:06 -0500 (Mon, 03 Feb 2025) EllapsedTime: 18.1 seconds RetCode: 0 Status: OK