Package: biocthis Version: 1.19.0 Command: /home/biocbuild/R/R/bin/R CMD build --keep-empty-dirs --no-resave-data biocthis StartedAt: 2025-10-02 22:20:24 -0000 (Thu, 02 Oct 2025) EndedAt: 2025-10-02 22:20:42 -0000 (Thu, 02 Oct 2025) EllapsedTime: 18.0 seconds RetCode: 0 Status: OK PackageFile: biocthis_1.19.0.tar.gz PackageFileSize: 794 KiB