Package: biocthis Version: 1.17.0 Command: /home/biocbuild/R/R/bin/R CMD INSTALL biocthis StartedAt: 2025-01-29 20:01:09 -0000 (Wed, 29 Jan 2025) EndedAt: 2025-01-29 20:01:14 -0000 (Wed, 29 Jan 2025) EllapsedTime: 4.7 seconds RetCode: 0 Status: OK