Package: biocmake Version: 1.1.4 Command: /Library/Frameworks/R.framework/Resources/bin/R CMD INSTALL biocmake StartedAt: 2025-10-21 15:03:38 -0400 (Tue, 21 Oct 2025) EndedAt: 2025-10-21 15:03:46 -0400 (Tue, 21 Oct 2025) EllapsedTime: 8.7 seconds RetCode: 0 Status: OK