Package: biocmake Version: 1.1.4 Command: /Library/Frameworks/R.framework/Resources/bin/R CMD build --keep-empty-dirs --no-resave-data biocmake StartedAt: 2025-10-21 15:46:37 -0400 (Tue, 21 Oct 2025) EndedAt: 2025-10-21 15:46:40 -0400 (Tue, 21 Oct 2025) EllapsedTime: 3.0 seconds RetCode: 0 Status: OK PackageFile: biocmake_1.1.4.tar.gz PackageFileSize: 223.2 KiB