Package: biocViews Version: 1.79.0 Command: /home/biocbuild/bbs-3.23-bioc/R/bin/R CMD build --keep-empty-dirs --no-resave-data biocViews StartedAt: 2025-11-14 16:29:40 -0500 (Fri, 14 Nov 2025) EndedAt: 2025-11-14 16:29:55 -0500 (Fri, 14 Nov 2025) EllapsedTime: 15.0 seconds RetCode: 0 Status: OK PackageFile: biocViews_1.79.0.tar.gz PackageFileSize: 510.1 KiB