Package: biocGraph Version: 1.71.0 Command: /home/biocbuild/R/R/bin/R CMD build --keep-empty-dirs --no-resave-data biocGraph StartedAt: 2025-10-20 22:14:48 -0000 (Mon, 20 Oct 2025) EndedAt: 2025-10-20 22:15:20 -0000 (Mon, 20 Oct 2025) EllapsedTime: 32.0 seconds RetCode: 0 Status: OK PackageFile: biocGraph_1.71.0.tar.gz PackageFileSize: 716.7 KiB