Package: biocGraph Version: 1.69.0 Command: rm -rf biocGraph.buildbin-libdir && mkdir biocGraph.buildbin-libdir && /Users/biocbuild/BBS/utils/build-universal.sh biocGraph_1.69.0.tar.gz /Library/Frameworks/R.framework/Resources/bin/R biocGraph.buildbin-libdir StartedAt: 2025-02-17 00:11:40 -0500 (Mon, 17 Feb 2025) EndedAt: 2025-02-17 00:12:01 -0500 (Mon, 17 Feb 2025) EllapsedTime: 21.0 seconds RetCode: 0 Status: OK PackageFile: biocGraph_1.69.0.tgz PackageFileSize: 720.2 KiB