Package: biocGraph Version: 1.71.0 Command: /Library/Frameworks/R.framework/Resources/bin/R CMD build --keep-empty-dirs --no-resave-data biocGraph StartedAt: 2025-05-09 15:46:43 -0400 (Fri, 09 May 2025) EndedAt: 2025-05-09 15:46:58 -0400 (Fri, 09 May 2025) EllapsedTime: 14.2 seconds RetCode: 0 Status: OK PackageFile: biocGraph_1.71.0.tar.gz PackageFileSize: 730.8 KiB