Package: biocGraph Version: 1.71.0 Command: rm -rf biocGraph.buildbin-libdir && mkdir biocGraph.buildbin-libdir && /Users/biocbuild/BBS/utils/build-universal.sh biocGraph_1.71.0.tar.gz /Library/Frameworks/R.framework/Resources/bin/R biocGraph.buildbin-libdir StartedAt: 2025-05-09 22:33:16 -0400 (Fri, 09 May 2025) EndedAt: 2025-05-09 22:33:23 -0400 (Fri, 09 May 2025) EllapsedTime: 7.1 seconds RetCode: 0 Status: OK PackageFile: biocGraph_1.71.0.tgz PackageFileSize: 722 KiB