Package: biobroom Version: 1.41.0 Command: /home/biocbuild/R/R/bin/R CMD INSTALL biobroom StartedAt: 2025-10-02 20:32:57 -0000 (Thu, 02 Oct 2025) EndedAt: 2025-10-02 20:33:05 -0000 (Thu, 02 Oct 2025) EllapsedTime: 7.5 seconds RetCode: 0 Status: OK