Package: biobroom Version: 1.41.0 Command: /Library/Frameworks/R.framework/Resources/bin/R CMD check --install=check:biobroom.install-out.txt --library=/Library/Frameworks/R.framework/Resources/library --no-vignettes --timings biobroom_1.41.0.tar.gz StartedAt: 2025-05-07 19:16:28 -0400 (Wed, 07 May 2025) EndedAt: 2025-05-07 19:18:15 -0400 (Wed, 07 May 2025) EllapsedTime: 107.0 seconds RetCode: 0 Status: WARNINGS CheckDir: biobroom.Rcheck Warnings: 1