Package: biobroom Version: 1.41.0 Command: /Library/Frameworks/R.framework/Resources/bin/R CMD INSTALL biobroom StartedAt: 2025-05-08 15:06:47 -0400 (Thu, 08 May 2025) EndedAt: 2025-05-08 15:06:49 -0400 (Thu, 08 May 2025) EllapsedTime: 2.6 seconds RetCode: 0 Status: OK