Package: biobroom Version: 1.41.0 Command: /Library/Frameworks/R.framework/Resources/bin/R CMD build --keep-empty-dirs --no-resave-data biobroom StartedAt: 2025-05-09 15:46:16 -0400 (Fri, 09 May 2025) EndedAt: 2025-05-09 15:46:39 -0400 (Fri, 09 May 2025) EllapsedTime: 23.2 seconds RetCode: 0 Status: OK PackageFile: biobroom_1.41.0.tar.gz PackageFileSize: 608.6 KiB