Package: bioassayR Version: 1.47.0 Command: /home/biocbuild/R/R/bin/R CMD build --keep-empty-dirs --no-resave-data bioassayR StartedAt: 2025-09-29 22:25:45 -0000 (Mon, 29 Sep 2025) EndedAt: 2025-09-29 22:26:44 -0000 (Mon, 29 Sep 2025) EllapsedTime: 59.0 seconds RetCode: 0 Status: OK PackageFile: bioassayR_1.47.0.tar.gz PackageFileSize: 1.458 MiB