Package: bioassayR Version: 1.47.0 Command: chmod a+r bioassayR -R && F:\biocbuild\bbs-3.22-bioc\R\bin\R.exe CMD build --keep-empty-dirs --no-resave-data bioassayR StartedAt: 2025-08-14 18:41:56 -0400 (Thu, 14 Aug 2025) EndedAt: 2025-08-14 18:44:37 -0400 (Thu, 14 Aug 2025) EllapsedTime: 160.4 seconds RetCode: 0 Status: OK PackageFile: bioassayR_1.47.0.tar.gz PackageFileSize: 1.252 MiB