Package: bioassayR Version: 1.45.0 Command: /Library/Frameworks/R.framework/Resources/bin/R CMD INSTALL bioassayR StartedAt: 2025-02-16 15:39:28 -0500 (Sun, 16 Feb 2025) EndedAt: 2025-02-16 15:39:44 -0500 (Sun, 16 Feb 2025) EllapsedTime: 16.0 seconds RetCode: 0 Status: OK