Package: bigmelon Version: 1.35.0 Command: rm -rf bigmelon.buildbin-libdir && mkdir bigmelon.buildbin-libdir && F:\biocbuild\bbs-3.22-bioc\R\bin\R.exe CMD INSTALL --build --library=bigmelon.buildbin-libdir bigmelon_1.35.0.tar.gz StartedAt: 2025-08-15 09:48:15 -0400 (Fri, 15 Aug 2025) EndedAt: 2025-08-15 09:50:08 -0400 (Fri, 15 Aug 2025) EllapsedTime: 113.3 seconds RetCode: 0 Status: OK PackageFile: bigmelon_1.35.0.zip PackageFileSize: 1.205 MiB