Package: bgx Version: 1.75.1 Command: /home/biocbuild/bbs-3.22-bioc/R/bin/R CMD INSTALL bgx StartedAt: 2025-10-13 15:17:57 -0400 (Mon, 13 Oct 2025) EndedAt: 2025-10-13 15:18:21 -0400 (Mon, 13 Oct 2025) EllapsedTime: 24.3 seconds RetCode: 0 Status: OK