Package: bgx Version: 1.75.1 Command: /home/biocbuild/bbs-3.22-bioc/R/bin/R CMD build --keep-empty-dirs --no-resave-data --md5 bgx StartedAt: 2025-10-12 16:24:35 -0400 (Sun, 12 Oct 2025) EndedAt: 2025-10-12 16:25:06 -0400 (Sun, 12 Oct 2025) EllapsedTime: 31.0 seconds RetCode: 1 Status: ERROR PackageFile: None PackageFileSize: NA