Package: bettr Version: 1.5.4 Command: /home/biocbuild/R/R/bin/R CMD INSTALL bettr StartedAt: 2025-10-16 21:29:31 -0000 (Thu, 16 Oct 2025) EndedAt: 2025-10-16 21:30:07 -0000 (Thu, 16 Oct 2025) EllapsedTime: 36.1 seconds RetCode: 0 Status: OK