Package: bettr Version: 1.5.4 Command: /Library/Frameworks/R.framework/Resources/bin/R CMD INSTALL bettr StartedAt: 2025-10-07 15:11:13 -0400 (Tue, 07 Oct 2025) EndedAt: 2025-10-07 15:11:25 -0400 (Tue, 07 Oct 2025) EllapsedTime: 11.4 seconds RetCode: 0 Status: OK