Package: betaHMM Version: 1.3.1 Command: /home/biocbuild/bbs-3.21-bioc/R/bin/R CMD INSTALL betaHMM StartedAt: 2025-02-16 15:23:11 -0500 (Sun, 16 Feb 2025) EndedAt: 2025-02-16 15:23:36 -0500 (Sun, 16 Feb 2025) EllapsedTime: 24.6 seconds RetCode: 0 Status: OK