Package: betaHMM Version: 1.3.1 Command: /home/biocbuild/bbs-3.21-bioc/R/bin/R CMD check --install=check:betaHMM.install-out.txt --library=/home/biocbuild/bbs-3.21-bioc/R/site-library --timings betaHMM_1.3.1.tar.gz StartedAt: 2025-02-16 20:10:12 -0500 (Sun, 16 Feb 2025) EndedAt: 2025-02-16 20:23:03 -0500 (Sun, 16 Feb 2025) EllapsedTime: 771.6 seconds RetCode: 0 Status: OK CheckDir: betaHMM.Rcheck Warnings: 0