Package: betaHMM Version: 1.3.1 Command: /home/biocbuild/R/R/bin/R CMD INSTALL betaHMM StartedAt: 2025-01-29 19:40:52 -0000 (Wed, 29 Jan 2025) EndedAt: 2025-01-29 19:41:27 -0000 (Wed, 29 Jan 2025) EllapsedTime: 35.8 seconds RetCode: 0 Status: OK