Package: benchdamic Version: 1.15.3 Command: /home/biocbuild/bbs-3.22-bioc/R/bin/R CMD INSTALL benchdamic StartedAt: 2025-10-06 15:31:01 -0400 (Mon, 06 Oct 2025) EndedAt: 2025-10-06 15:32:09 -0400 (Mon, 06 Oct 2025) EllapsedTime: 67.7 seconds RetCode: 0 Status: OK