Package: benchdamic Version: 1.15.3 Command: /home/biocbuild/bbs-3.22-bioc/R/bin/R CMD build --keep-empty-dirs --no-resave-data --md5 benchdamic StartedAt: 2025-10-06 16:23:05 -0400 (Mon, 06 Oct 2025) EndedAt: 2025-10-06 16:46:01 -0400 (Mon, 06 Oct 2025) EllapsedTime: 1376.3 seconds RetCode: 0 Status: OK PackageFile: benchdamic_1.15.3.tar.gz PackageFileSize: 5.9 MiB