Package: benchdamic Version: 1.13.2 Command: /home/biocbuild/bbs-3.21-bioc/R/bin/R CMD INSTALL benchdamic StartedAt: 2025-02-16 15:33:42 -0500 (Sun, 16 Feb 2025) EndedAt: 2025-02-16 15:34:47 -0500 (Sun, 16 Feb 2025) EllapsedTime: 64.5 seconds RetCode: 0 Status: OK