Package: beer Version: 1.11.0 Command: /Library/Frameworks/R.framework/Resources/bin/R CMD build --keep-empty-dirs --no-resave-data beer StartedAt: 2025-02-14 15:57:02 -0500 (Fri, 14 Feb 2025) EndedAt: 2025-02-14 16:00:00 -0500 (Fri, 14 Feb 2025) EllapsedTime: 178.0 seconds RetCode: 0 Status: OK PackageFile: beer_1.11.0.tar.gz PackageFileSize: 609.6 KiB