Package: bedbaser Version: 1.3.0 Command: /home/biocbuild/bbs-3.23-bioc/R/bin/R CMD INSTALL bedbaser StartedAt: 2025-11-17 15:32:46 -0500 (Mon, 17 Nov 2025) EndedAt: 2025-11-17 15:32:51 -0500 (Mon, 17 Nov 2025) EllapsedTime: 4.2 seconds RetCode: 0 Status: OK