Package: bedbaser Version: 1.3.0 Command: /home/biocbuild/bbs-3.23-bioc/R/bin/R CMD build --keep-empty-dirs --no-resave-data bedbaser StartedAt: 2025-11-17 16:26:46 -0500 (Mon, 17 Nov 2025) EndedAt: 2025-11-17 16:28:02 -0500 (Mon, 17 Nov 2025) EllapsedTime: 76.0 seconds RetCode: 0 Status: OK PackageFile: bedbaser_1.3.0.tar.gz PackageFileSize: 251.8 KiB