Package: bedbaser Version: 1.3.0 Command: /Library/Frameworks/R.framework/Resources/bin/R CMD INSTALL bedbaser StartedAt: 2025-11-17 15:29:57 -0500 (Mon, 17 Nov 2025) EndedAt: 2025-11-17 15:30:05 -0500 (Mon, 17 Nov 2025) EllapsedTime: 8.2 seconds RetCode: 0 Status: OK