Package: bedbaser Version: 1.3.0 Command: /Library/Frameworks/R.framework/Resources/bin/R CMD build --keep-empty-dirs --no-resave-data bedbaser StartedAt: 2025-11-17 16:13:51 -0500 (Mon, 17 Nov 2025) EndedAt: 2025-11-17 16:15:42 -0500 (Mon, 17 Nov 2025) EllapsedTime: 111.8 seconds RetCode: 0 Status: OK PackageFile: bedbaser_1.3.0.tar.gz PackageFileSize: 251.7 KiB