Package: bedbaser Version: 1.3.0 Command: rm -rf bedbaser.buildbin-libdir && mkdir bedbaser.buildbin-libdir && /Users/biocbuild/BBS/utils/build-universal.sh bedbaser_1.3.0.tar.gz /Library/Frameworks/R.framework/Resources/bin/R bedbaser.buildbin-libdir StartedAt: 2025-11-18 06:49:49 -0500 (Tue, 18 Nov 2025) EndedAt: 2025-11-18 06:49:58 -0500 (Tue, 18 Nov 2025) EllapsedTime: 9.3 seconds RetCode: 0 Status: OK PackageFile: bedbaser_1.3.0.tgz PackageFileSize: 311.6 KiB