Package: bedbaser Version: 1.1.3 Command: /Library/Frameworks/R.framework/Resources/bin/R CMD INSTALL bedbaser StartedAt: 2025-10-24 15:20:45 -0400 (Fri, 24 Oct 2025) EndedAt: 2025-10-24 15:20:48 -0400 (Fri, 24 Oct 2025) EllapsedTime: 2.6 seconds RetCode: 0 Status: OK