Package: bedbaser Version: 1.1.3 Command: /Library/Frameworks/R.framework/Resources/bin/R CMD build --keep-empty-dirs --no-resave-data bedbaser StartedAt: 2025-10-24 15:46:55 -0400 (Fri, 24 Oct 2025) EndedAt: 2025-10-24 15:47:34 -0400 (Fri, 24 Oct 2025) EllapsedTime: 39.4 seconds RetCode: 0 Status: OK PackageFile: bedbaser_1.1.3.tar.gz PackageFileSize: 251.7 KiB