Package: bedbaser Version: 1.1.3 Command: rm -rf bedbaser.buildbin-libdir && mkdir bedbaser.buildbin-libdir && /Users/biocbuild/BBS/utils/build-universal.sh bedbaser_1.1.3.tar.gz /Library/Frameworks/R.framework/Resources/bin/R bedbaser.buildbin-libdir StartedAt: 2025-10-24 22:55:09 -0400 (Fri, 24 Oct 2025) EndedAt: 2025-10-24 22:55:12 -0400 (Fri, 24 Oct 2025) EllapsedTime: 3.0 seconds RetCode: 0 Status: OK PackageFile: bedbaser_1.1.3.tgz PackageFileSize: 312.4 KiB