Package: beadarray Version: 2.59.0 Command: /home/biocbuild/R/R/bin/R CMD INSTALL beadarray StartedAt: 2025-10-13 21:06:22 -0000 (Mon, 13 Oct 2025) EndedAt: 2025-10-13 21:06:59 -0000 (Mon, 13 Oct 2025) EllapsedTime: 36.2 seconds RetCode: 0 Status: OK