Package: beadarray Version: 2.59.0 Command: /home/biocbuild/R/R/bin/R CMD build --keep-empty-dirs --no-resave-data beadarray StartedAt: 2025-10-13 22:33:16 -0000 (Mon, 13 Oct 2025) EndedAt: 2025-10-13 22:37:10 -0000 (Mon, 13 Oct 2025) EllapsedTime: 234.1 seconds RetCode: 0 Status: OK PackageFile: beadarray_2.59.0.tar.gz PackageFileSize: 2.891 MiB