Package: beadarray Version: 2.57.0 Command: E:\biocbuild\bbs-3.21-bioc\R\bin\R.exe CMD check --no-multiarch --install=check:beadarray.install-out.txt --library=E:\biocbuild\bbs-3.21-bioc\R\library --no-vignettes --timings beadarray_2.57.0.tar.gz StartedAt: 2025-02-03 23:20:56 -0500 (Mon, 03 Feb 2025) EndedAt: 2025-02-03 23:29:36 -0500 (Mon, 03 Feb 2025) EllapsedTime: 519.9 seconds RetCode: 0 Status: OK CheckDir: beadarray.Rcheck Warnings: 0