Package: beadarray Version: 2.57.0 Command: /home/biocbuild/bbs-3.21-bioc/R/bin/R CMD build --keep-empty-dirs --no-resave-data beadarray StartedAt: 2025-02-02 16:13:33 -0500 (Sun, 02 Feb 2025) EndedAt: 2025-02-02 16:16:06 -0500 (Sun, 02 Feb 2025) EllapsedTime: 153.1 seconds RetCode: 0 Status: OK PackageFile: beadarray_2.57.0.tar.gz PackageFileSize: 3.728 MiB