Package: beadarray Version: 2.59.0 Command: /Library/Frameworks/R.framework/Resources/bin/R CMD build --keep-empty-dirs --no-resave-data beadarray StartedAt: 2025-05-01 15:42:17 -0400 (Thu, 01 May 2025) EndedAt: 2025-05-01 15:43:34 -0400 (Thu, 01 May 2025) EllapsedTime: 76.9 seconds RetCode: 0 Status: OK PackageFile: beadarray_2.59.0.tar.gz PackageFileSize: 4.3 MiB