Package: beachmat Version: 2.25.5 Command: /home/biocbuild/bbs-3.22-bioc/R/bin/R CMD build --keep-empty-dirs --no-resave-data --md5 beachmat StartedAt: 2025-10-28 16:23:37 -0400 (Tue, 28 Oct 2025) EndedAt: 2025-10-28 16:25:53 -0400 (Tue, 28 Oct 2025) EllapsedTime: 135.1 seconds RetCode: 0 Status: OK PackageFile: beachmat_2.25.5.tar.gz PackageFileSize: 374.2 KiB