Package: beachmat Version: 2.23.6 Command: /home/biocbuild/R/R/bin/R CMD build --keep-empty-dirs --no-resave-data beachmat StartedAt: 2024-12-24 21:04:17 -0000 (Tue, 24 Dec 2024) EndedAt: 2024-12-24 21:11:00 -0000 (Tue, 24 Dec 2024) EllapsedTime: 403.1 seconds RetCode: 0 Status: OK PackageFile: beachmat_2.23.6.tar.gz PackageFileSize: 436.3 KiB