Package: beachmat.tiledb Version: 0.99.1 Command: /home/biocbuild/R/R/bin/R CMD build --keep-empty-dirs --no-resave-data beachmat.tiledb StartedAt: 2025-01-29 21:04:53 -0000 (Wed, 29 Jan 2025) EndedAt: 2025-01-29 21:04:54 -0000 (Wed, 29 Jan 2025) EllapsedTime: 1.0 seconds RetCode: 1 Status: ERROR PackageFile: None PackageFileSize: NA