Package: beachmat.tiledb Version: 0.99.1 Command: /Library/Frameworks/R.framework/Resources/bin/R CMD check --install=check:beachmat.tiledb.install-out.txt --library=/Library/Frameworks/R.framework/Resources/library --no-vignettes --timings beachmat.tiledb_0.99.1.tar.gz StartedAt: 2025-02-04 18:11:52 -0500 (Tue, 04 Feb 2025) EndedAt: 2025-02-04 18:12:48 -0500 (Tue, 04 Feb 2025) EllapsedTime: 55.7 seconds RetCode: 0 Status: OK CheckDir: beachmat.tiledb.Rcheck Warnings: 0