Package: beachmat.hdf5 Version: 1.5.1 Command: E:\biocbuild\bbs-3.21-bioc\R\bin\R.exe CMD check --no-multiarch --install=check:beachmat.hdf5.install-out.txt --library=E:\biocbuild\bbs-3.21-bioc\R\library --no-vignettes --timings beachmat.hdf5_1.5.1.tar.gz StartedAt: 2025-02-03 23:20:32 -0500 (Mon, 03 Feb 2025) EndedAt: 2025-02-03 23:23:42 -0500 (Mon, 03 Feb 2025) EllapsedTime: 190.0 seconds RetCode: 0 Status: OK CheckDir: beachmat.hdf5.Rcheck Warnings: 0