Package: beachmat.hdf5 Version: 1.5.1 Command: /home/biocbuild/bbs-3.21-bioc/R/bin/R CMD check --install=check:beachmat.hdf5.install-out.txt --library=/home/biocbuild/bbs-3.21-bioc/R/site-library --timings beachmat.hdf5_1.5.1.tar.gz StartedAt: 2025-02-03 20:23:18 -0500 (Mon, 03 Feb 2025) EndedAt: 2025-02-03 20:25:36 -0500 (Mon, 03 Feb 2025) EllapsedTime: 138.1 seconds RetCode: 0 Status: WARNINGS CheckDir: beachmat.hdf5.Rcheck Warnings: 1