Package: beachmat.hdf5 Version: 1.5.1 Command: /Library/Frameworks/R.framework/Resources/bin/R CMD INSTALL beachmat.hdf5 StartedAt: 2025-02-03 15:17:43 -0500 (Mon, 03 Feb 2025) EndedAt: 2025-02-03 15:18:52 -0500 (Mon, 03 Feb 2025) EllapsedTime: 69.0 seconds RetCode: 0 Status: OK